BEGIN:VCALENDAR
VERSION:2.0
PRODID:icalendar-ruby
CALSCALE:GREGORIAN
METHOD:PUBLISH
BEGIN:VEVENT
DTSTAMP:20260423T104244Z
UID:239-17745@sthilary.org
DTSTART:20260427T011500Z
DTEND:20260427T023000Z
CLASS:PUBLIC
CREATED:20260419T133203
DESCRIPTION:SPARK is our vibrant middle school ministry for students in gra
 des 4–8\, designed to ignite faith\, friendship\, and fun! Each gatherin
 g is filled with high-energy games\, engaging activities\, and meaningful 
 small group discussions where students can ask questions\, share their exp
 eriences\, and grow in their relationship with God. SPARK is a safe\, welc
 oming space where young people are known\, valued\, and encouraged to disc
 over that their faith can truly come alive and make a difference in their 
 everyday lives.
LAST-MODIFIED:20260419T133203
LOCATION:Tarantino Hall\, 763 Hilary Drive\, Tiburon\, CA 94920
SUMMARY:Middle School Ministry
URL;VALUE=URI:https://www.sthilary.org/events/middle-school-ministry--239/2
 026-04-26
ATTACH;FILENAME=SPARK-Logo-Meeting-Announcement.png;FMTTYPE=image/png:https
 ://dq5pwpg1q8ru0.cloudfront.net/2026/04/19/20/32/03/93592e52-0e58-461f-a86
 0-2b52382b3779/SPARK-Logo-Meeting-Announcement.png
END:VEVENT
END:VCALENDAR
