BEGIN:VCALENDAR
VERSION:2.0
PRODID:icalendar-ruby
CALSCALE:GREGORIAN
METHOD:PUBLISH
BEGIN:VEVENT
DTSTAMP:20260423T104244Z
UID:238-17744@sthilary.org
DTSTART:20260429T140000Z
DTEND:20260429T163000Z
CLASS:PUBLIC
CREATED:20260419T132951
DESCRIPTION:Please help us in preparing lunches for those in need.  Attach
 ed are the preparation and drop off instructions to make a lunch for those
  who are hungry. The next drop off date is Wednesday\, April 29\, before 
 9:30am. Thank you for your care and concern for the most vulnerable among 
 us.
LAST-MODIFIED:20260419T132951
LOCATION:St. Hilary Church\, 761 Hilary Drive\, Tiburon\, CA 94920
SUMMARY:Lunching-Making Ministry
URL;VALUE=URI:https://www.sthilary.org/events/lunching-making-ministry--238
 /2026-04-29
ATTACH;FILENAME=SVDP-Lunch-Artwork.png;FMTTYPE=image/png:https://dq5pwpg1q8
 ru0.cloudfront.net/2026/04/19/20/29/51/d770ae58-ae12-49ae-bb17-8d2b2683c95
 0/SVDP-Lunch-Artwork.png
END:VEVENT
END:VCALENDAR
